BEGIN:VCALENDAR
VERSION:2.0
PRODID:-//Quiltworx.com - ECPv4.9.6//NONSGML v1.0//EN
CALSCALE:GREGORIAN
METHOD:PUBLISH
X-WR-CALNAME:Quiltworx.com
X-ORIGINAL-URL:https://www.quiltworx.com
X-WR-CALDESC:Events for Quiltworx.com
BEGIN:VTIMEZONE
TZID:"America/Denver"
BEGIN:DAYLIGHT
TZOFFSETFROM:-0700
TZOFFSETTO:-0600
TZNAME:MDT
DTSTART:20170312T090000
END:DAYLIGHT
BEGIN:STANDARD
TZOFFSETFROM:-0600
TZOFFSETTO:-0700
TZNAME:MST
DTSTART:20171105T080000
END:STANDARD
END:VTIMEZONE
BEGIN:VEVENT
DTSTART;TZID="America/Denver":20170204T100000
DTEND;TZID="America/Denver":20170204T160000
DTSTAMP:20260424T081655
CREATED:20161229T235627Z
LAST-MODIFIED:20161229T235732Z
UID:81281-1486202400-1486224000@www.quiltworx.com
SUMMARY:Feathered Star
DESCRIPTION:
URL:https://www.quiltworx.com/event/feathered-star-3/
LOCATION:Lyons Quilting\, 42 East Main Street\, Lyons\, CO\, 80540\, United States
CATEGORIES:Feathered Snowflake Tree Skirt,Feathered Star,Feathered Star Queen,Susan Sears
END:VEVENT
END:VCALENDAR