BEGIN:VCALENDAR
VERSION:2.0
PRODID:-//Quiltworx.com - ECPv4.9.6//NONSGML v1.0//EN
CALSCALE:GREGORIAN
METHOD:PUBLISH
X-WR-CALNAME:Quiltworx.com
X-ORIGINAL-URL:https://www.quiltworx.com
X-WR-CALDESC:Events for Quiltworx.com
BEGIN:VTIMEZONE
TZID:"America/Denver"
BEGIN:DAYLIGHT
TZOFFSETFROM:-0700
TZOFFSETTO:-0600
TZNAME:MDT
DTSTART:20140309T090000
END:DAYLIGHT
BEGIN:STANDARD
TZOFFSETFROM:-0600
TZOFFSETTO:-0700
TZNAME:MST
DTSTART:20141102T080000
END:STANDARD
END:VTIMEZONE
BEGIN:VEVENT
DTSTART;TZID="America/Denver":20140328T183000
DTEND;TZID="America/Denver":20140328T200000
DTSTAMP:20260421T020108
CREATED:20140301T014054Z
LAST-MODIFIED:20140301T015220Z
UID:13114-1396031400-1396036800@www.quiltworx.com
SUMMARY:Evening Star Quilt Guild - (Red Wing\, MN) Trunk Show
DESCRIPTION:
URL:https://www.quiltworx.com/event/evening-star-quilt-guild-red-wing-mn-trunk-show-2/
LOCATION:Red Wing Area Senior Center "Pier 55"\, 240 Harrison Street\, Red Wing\, MN\, 55066\, United States
CATEGORIES:Jodie Madison
ORGANIZER;CN="Ronnelle%20Jaeger":MAILTO:ronnelle.jaeger@ci.red-wing.mn.us
END:VEVENT
END:VCALENDAR