BEGIN:VCALENDAR
VERSION:2.0
PRODID:-//Quiltworx.com - ECPv4.9.6//NONSGML v1.0//EN
CALSCALE:GREGORIAN
METHOD:PUBLISH
X-WR-CALNAME:Quiltworx.com
X-ORIGINAL-URL:https://www.quiltworx.com
X-WR-CALDESC:Events for Quiltworx.com
BEGIN:VTIMEZONE
TZID:"America/Denver"
BEGIN:DAYLIGHT
TZOFFSETFROM:-0700
TZOFFSETTO:-0600
TZNAME:MDT
DTSTART:20150308T090000
END:DAYLIGHT
BEGIN:STANDARD
TZOFFSETFROM:-0600
TZOFFSETTO:-0700
TZNAME:MST
DTSTART:20151101T080000
END:STANDARD
END:VTIMEZONE
BEGIN:VEVENT
DTSTART;TZID="America/Denver":20151118T080000
DTEND;TZID="America/Denver":20151126T170000
DTSTAMP:20260420T152332
CREATED:20151023T231239Z
LAST-MODIFIED:20151023T231239Z
UID:22074-1447833600-1448557200@www.quiltworx.com
SUMMARY:Emily Test
DESCRIPTION:
URL:https://www.quiltworx.com/event/emily-test-2/
LOCATION:Quiltworx Training Center Retreats\, 100 Lincoln Lane\, Kalispell\, MT\, 59901\, United States
CATEGORIES:Judy Niemeyer,Judy Niemeyer,Retreats
ORGANIZER;CN="Judy%20Niemeyer":MAILTO:judy@quiltworx.com
END:VEVENT
END:VCALENDAR