BEGIN:VCALENDAR
VERSION:2.0
PRODID:-//Quiltworx.com - ECPv4.9.6//NONSGML v1.0//EN
CALSCALE:GREGORIAN
METHOD:PUBLISH
X-WR-CALNAME:Quiltworx.com
X-ORIGINAL-URL:https://www.quiltworx.com
X-WR-CALDESC:Events for Quiltworx.com
BEGIN:VTIMEZONE
TZID:"America/Denver"
BEGIN:DAYLIGHT
TZOFFSETFROM:-0700
TZOFFSETTO:-0600
TZNAME:MDT
DTSTART:20230312T090000
END:DAYLIGHT
BEGIN:STANDARD
TZOFFSETFROM:-0600
TZOFFSETTO:-0700
TZNAME:MST
DTSTART:20231105T080000
END:STANDARD
END:VTIMEZONE
BEGIN:VEVENT
DTSTART;TZID="America/Denver":20230608T093000
DTEND;TZID="America/Denver":20230608T163000
DTSTAMP:20260422T141056
CREATED:20230216T002950Z
LAST-MODIFIED:20230216T002950Z
UID:105893-1686216600-1686241800@www.quiltworx.com
SUMMARY:Elkhart's Blazing Star with Tammy Gardner
DESCRIPTION:This quilt was designed exclusively for the Elkhart County Quilt & Fiber Expo’s inaugural event\, June 8-10\, 2023.  It is a 45″ square quilt in the show colors\, designed using Stella Maris Mixer elements.  For more information and registration\, please see the website: www.elkhartcountyquiltfiberexpo.com \n \n
URL:https://www.quiltworx.com/event/elkharts-blazing-star-with-tammy-gardner/
LOCATION:Elkhart County Quilt & Fiber Expo
CATEGORIES:Tammy Gardner
END:VEVENT
END:VCALENDAR