BEGIN:VCALENDAR
VERSION:2.0
PRODID:-//Quiltworx.com - ECPv4.9.6//NONSGML v1.0//EN
CALSCALE:GREGORIAN
METHOD:PUBLISH
X-WR-CALNAME:Quiltworx.com
X-ORIGINAL-URL:https://www.quiltworx.com
X-WR-CALDESC:Events for Quiltworx.com
BEGIN:VTIMEZONE
TZID:"America/Denver"
BEGIN:DAYLIGHT
TZOFFSETFROM:-0700
TZOFFSETTO:-0600
TZNAME:MDT
DTSTART:20200308T090000
END:DAYLIGHT
BEGIN:STANDARD
TZOFFSETFROM:-0600
TZOFFSETTO:-0700
TZNAME:MST
DTSTART:20201101T080000
END:STANDARD
END:VTIMEZONE
BEGIN:VEVENT
DTSTART;TZID="America/Denver":20200918T130000
DTEND;TZID="America/Denver":20200923T140000
DTSTAMP:20260424T224401
CREATED:20190531T202840Z
LAST-MODIFIED:20190531T202840Z
UID:93440-1600434000-1600869600@www.quiltworx.com
SUMMARY:Edenvale Retreat - September 18 to 23\, 2020 - Abbotsford\, BC
DESCRIPTION:Waitlist only at this time \n  \nWork on any Quiltworx pattern of your choice \n
URL:https://www.quiltworx.com/event/edenvale-retreat-september-18-to-23-2020-abbotsford-bc/
LOCATION:Edenvale Retreat Centre\, 4330 Bradner Rd \, Abbotsford \, BC\, V4X1S8\, Canada
CATEGORIES:Maureen Wood
ORGANIZER;CN="Maureen%20Wood":MAILTO:woodma@telus.net
END:VEVENT
END:VCALENDAR