BEGIN:VCALENDAR
VERSION:2.0
PRODID:-//Quiltworx.com - ECPv4.9.6//NONSGML v1.0//EN
CALSCALE:GREGORIAN
METHOD:PUBLISH
X-WR-CALNAME:Quiltworx.com
X-ORIGINAL-URL:https://www.quiltworx.com
X-WR-CALDESC:Events for Quiltworx.com
BEGIN:VTIMEZONE
TZID:"America/Denver"
BEGIN:DAYLIGHT
TZOFFSETFROM:-0700
TZOFFSETTO:-0600
TZNAME:MDT
DTSTART:20170312T090000
END:DAYLIGHT
BEGIN:STANDARD
TZOFFSETFROM:-0600
TZOFFSETTO:-0700
TZNAME:MST
DTSTART:20171105T080000
END:STANDARD
END:VTIMEZONE
BEGIN:VEVENT
DTSTART;VALUE=DATE:20170121
DTEND;VALUE=DATE:20170122
DTSTAMP:20260419T122736
CREATED:20170106T080843Z
LAST-MODIFIED:20170106T080843Z
UID:81443-1484956800-1485043199@www.quiltworx.com
SUMMARY:Double Wedding Ring Series Class
DESCRIPTION:This will be a three day class taught over three months. I will show you step-by-step how to complete the Judy Niemeyer techniques and I will show you how to put the quilt top together. \nClasses will be taught on January 21\, March 25\, and May 29th. \n  \n
URL:https://www.quiltworx.com/event/double-wedding-ring-series-class/
CATEGORIES:Bali Bed Runner 2014,Bali Wedding Star,Gemstone Wedding Star,May Black,Wedding Star Table Topper
END:VEVENT
END:VCALENDAR