BEGIN:VCALENDAR
VERSION:2.0
PRODID:-//Quiltworx.com - ECPv4.9.6//NONSGML v1.0//EN
CALSCALE:GREGORIAN
METHOD:PUBLISH
X-WR-CALNAME:Quiltworx.com
X-ORIGINAL-URL:https://www.quiltworx.com
X-WR-CALDESC:Events for Quiltworx.com
BEGIN:VTIMEZONE
TZID:"UTC"
BEGIN:STANDARD
TZOFFSETFROM:+0000
TZOFFSETTO:+0000
TZNAME:UTC
DTSTART:20200101T000000
END:STANDARD
END:VTIMEZONE
BEGIN:VEVENT
DTSTART;TZID="UTC":20200627T100000
DTEND;TZID="UTC":20200627T153000
DTSTAMP:20260423T102431
CREATED:20190915T025932Z
LAST-MODIFIED:20200903T131447Z
UID:94829-1593252000-1593271800@www.quiltworx.com
SUMMARY:Dinner Plate Dahlia TOM 2 of 7
DESCRIPTION:The Dinner Plate Dahlia pattern is the newest release of Judy’s TOM patterns and is interestingly pieced and assembled from the outer borders to the beautiful center. We will meet once a month for 7 months. Workshops begin on February 29\, 2020 and end on August 29\, 2020.  At the Workshops Nancy will walk you through the organized Foundation Paper Piecing techniques of Judy Niemeyer. \nWorkshop dates:  Feb. 29\, 2020\, March 28*\, April 25*\, May 30*\, June 27\, July 25\, August 29\, Sept 26**\, Oct 24** and Nov 28** \nSew Elegant Quilt Shop \n  \n*March 28\, April 25 and May 30 to be rescheduled due to Covid19 lockdown. \n** Rescheduled Makeup dates \n  \n
URL:https://www.quiltworx.com/event/dinner-plate-dahlia-tom-5-of-7-2/
LOCATION:RMC Quilts\, 3909 Pine Grove Ave.\, Fort Gratiot\, MI\, 48059\, United States
CATEGORIES:Dinner Plate Dahlia,Nancy Kloster
ATTACH;FMTTYPE=image/jpeg:https://d90udyyio1r4.cloudfront.net/wp-content/uploads/2019/01/Dinner-Plate-Dahlia-Header-V2.jpg
END:VEVENT
END:VCALENDAR