BEGIN:VCALENDAR
VERSION:2.0
PRODID:-//Quiltworx.com - ECPv4.9.6//NONSGML v1.0//EN
CALSCALE:GREGORIAN
METHOD:PUBLISH
X-WR-CALNAME:Quiltworx.com
X-ORIGINAL-URL:https://www.quiltworx.com
X-WR-CALDESC:Events for Quiltworx.com
BEGIN:VTIMEZONE
TZID:"America/Denver"
BEGIN:DAYLIGHT
TZOFFSETFROM:-0700
TZOFFSETTO:-0600
TZNAME:MDT
DTSTART:20190310T090000
END:DAYLIGHT
BEGIN:STANDARD
TZOFFSETFROM:-0600
TZOFFSETTO:-0700
TZNAME:MST
DTSTART:20191103T080000
END:STANDARD
END:VTIMEZONE
BEGIN:VEVENT
DTSTART;VALUE=DATE:20190504
DTEND;VALUE=DATE:20190505
DTSTAMP:20260420T192908
CREATED:20181030T213130Z
LAST-MODIFIED:20190115T011610Z
UID:91457-1556928000-1557014399@www.quiltworx.com
SUMMARY:Dinner Plate Dahlia (Session Three) - Busy Bobbin; Rice Lake\, WI
DESCRIPTION:
URL:https://www.quiltworx.com/event/dinner-plate-dahlia-session-three-busy-bobbin-rice-lake-wi/
LOCATION:Busy Bobbin\, 234 North Wilson Avenue\, Rice Lake\, WI\, 54868\, United States
CATEGORIES:Dinner Plate Dahlia,Jodie Madison
ORGANIZER;CN="Diann%20Raymond":MAILTO:diann@busybobbin.com
END:VEVENT
END:VCALENDAR