BEGIN:VCALENDAR
VERSION:2.0
PRODID:-//Quiltworx.com - ECPv4.9.6//NONSGML v1.0//EN
CALSCALE:GREGORIAN
METHOD:PUBLISH
X-WR-CALNAME:Quiltworx.com
X-ORIGINAL-URL:https://www.quiltworx.com
X-WR-CALDESC:Events for Quiltworx.com
BEGIN:VTIMEZONE
TZID:"America/Denver"
BEGIN:DAYLIGHT
TZOFFSETFROM:-0700
TZOFFSETTO:-0600
TZNAME:MDT
DTSTART:20180311T090000
END:DAYLIGHT
BEGIN:STANDARD
TZOFFSETFROM:-0600
TZOFFSETTO:-0700
TZNAME:MST
DTSTART:20181104T080000
END:STANDARD
END:VTIMEZONE
BEGIN:VEVENT
DTSTART;TZID="America/Denver":20180811T100000
DTEND;TZID="America/Denver":20180811T130000
DTSTAMP:20260421T042043
CREATED:20180218T040448Z
LAST-MODIFIED:20180218T040448Z
UID:87968-1533981600-1533992400@www.quiltworx.com
SUMMARY:Desert Sky Prep
DESCRIPTION:Bradley and Judy designed the layout for the Desert Sky using a selection of bright and dark fat quarters from our Wildflowers Collection\, designed by Judy & Judel Niemeyer with Timeless Treasures. Template Layout sheets were designed and provided with these instruction to speed up the cutting process\, allowing you to stack and cut your fat quarters in two groups of nine fabrics. An even amount of yardage is needed for each color. The skill level ranges from beginner to advanced. \nTo visit Ann Arbor Sewing Center click here. \n
URL:https://www.quiltworx.com/event/desert-sky-prep/
LOCATION:Ann Arbor Sewing Center\, 5235 Jackson Road\, Ann Arbor\, MI\, 48103\, United States
CATEGORIES:Desert Sky,Nancy Kloster
ATTACH;FMTTYPE=image/jpeg:https://d90udyyio1r4.cloudfront.net/wp-content/uploads/2015/11/NL-Desert-Sky.jpg
ORGANIZER;CN="Ann%20Arbor%20Sewing%20Center":MAILTO:Annarborsewingcenter@annarborsewing.com
END:VEVENT
END:VCALENDAR