BEGIN:VCALENDAR
VERSION:2.0
PRODID:-//Quiltworx.com - ECPv4.9.6//NONSGML v1.0//EN
CALSCALE:GREGORIAN
METHOD:PUBLISH
X-WR-CALNAME:Quiltworx.com
X-ORIGINAL-URL:https://www.quiltworx.com
X-WR-CALDESC:Events for Quiltworx.com
BEGIN:VTIMEZONE
TZID:"America/Denver"
BEGIN:DAYLIGHT
TZOFFSETFROM:-0700
TZOFFSETTO:-0600
TZNAME:MDT
DTSTART:20170312T090000
END:DAYLIGHT
BEGIN:STANDARD
TZOFFSETFROM:-0600
TZOFFSETTO:-0700
TZNAME:MST
DTSTART:20171105T080000
END:STANDARD
END:VTIMEZONE
BEGIN:VEVENT
DTSTART;TZID="America/Denver":20170423T100000
DTEND;TZID="America/Denver":20170423T160000
DTSTAMP:20260424T043032
CREATED:20170317T130815Z
LAST-MODIFIED:20170324T191809Z
UID:82994-1492941600-1492963200@www.quiltworx.com
SUMMARY:Desert Sky / Island Sunrise
DESCRIPTION:Quiltworx designed a new\, fast\, and easy cutting instructions using Template Layout Sheets\, making this a fun and easy quilt for any beginner or advanced quilter to make up in just a few days.  A sewing technique called foundation paper piecing is used when sewing the pieces onto the foundation units.  Curved piecing and traditional piecing are required to join the units after the foundation piecing is completed. \nMeasurement: 56″ x 56″ \nThis is a 1-Day Class which will be held on April 23rd. \nThe 1-day class includes the following: \n\nIsland Sunrise Pattern\n6 hours of Course Instruction by Patti M & Nancy D\n3 hours of Pre-cutting Instruction by Patti M\nLunch & Light Snacks\n\nStop by the store and check out our finished sample.  Kits are available upon requests or we can help you design your own colorway.   YOU CAN SHOP YOUR STASH\, buy your fabric (15% off already Discounted prices)\, or pick up a kit at Sew Many Things. \nJoin Patti M & Nancy D to create this wonderful project. \nIn January 2016\, Beth Sidley (CI) taught the Arizona Sunrise & in October 2016\, Mary Wakeley (CI) taught the Desert Sky at Sew Many Things. If you attended this class and you need additional assistance to complete the quilt\, join in on the class for a significantly reduced price and let Patti & Nancy help you finish your quilt. To get this special pricing you must contact the store to register. \nFor more details or to register online\, click here. \n
URL:https://www.quiltworx.com/event/desert-sky-island-sunrise/
LOCATION:Sew Many Things\, 35486 Groesbeck Highway\, Clinton Township\, MI\, 48035\, United States
CATEGORIES:Desert Sky,Island Sunrise,Sew Many Things
ORGANIZER;CN="Sew%20Many%20Things%20Sewing%20Center":MAILTO:sewmanythingsle@yahoo.com
END:VEVENT
END:VCALENDAR