BEGIN:VCALENDAR
VERSION:2.0
PRODID:-//Quiltworx.com - ECPv4.9.6//NONSGML v1.0//EN
CALSCALE:GREGORIAN
METHOD:PUBLISH
X-WR-CALNAME:Quiltworx.com
X-ORIGINAL-URL:https://www.quiltworx.com
X-WR-CALDESC:Events for Quiltworx.com
BEGIN:VTIMEZONE
TZID:"America/Denver"
BEGIN:DAYLIGHT
TZOFFSETFROM:-0700
TZOFFSETTO:-0600
TZNAME:MDT
DTSTART:20150308T090000
END:DAYLIGHT
BEGIN:STANDARD
TZOFFSETFROM:-0600
TZOFFSETTO:-0700
TZNAME:MST
DTSTART:20151101T080000
END:STANDARD
END:VTIMEZONE
BEGIN:VEVENT
DTSTART;TZID="America/Denver":20150328T100000
DTEND;TZID="America/Denver":20150328T160000
DTSTAMP:20260419T204645
CREATED:20150120T135539Z
LAST-MODIFIED:20150120T135540Z
UID:17168-1427536800-1427558400@www.quiltworx.com
SUMMARY:Desert Sky
DESCRIPTION:
URL:https://www.quiltworx.com/event/desert-sky-8/
LOCATION:IN BETWEEN STITCHES\, 2190 First St\, Livermore\, CA\, 94550\, United States
CATEGORIES:Desert Sky,Patsy Carpenter
END:VEVENT
END:VCALENDAR