BEGIN:VCALENDAR
VERSION:2.0
PRODID:-//Quiltworx.com - ECPv4.9.6//NONSGML v1.0//EN
CALSCALE:GREGORIAN
METHOD:PUBLISH
X-WR-CALNAME:Quiltworx.com
X-ORIGINAL-URL:https://www.quiltworx.com
X-WR-CALDESC:Events for Quiltworx.com
BEGIN:VTIMEZONE
TZID:"America/Denver"
BEGIN:DAYLIGHT
TZOFFSETFROM:-0700
TZOFFSETTO:-0600
TZNAME:MDT
DTSTART:20140309T090000
END:DAYLIGHT
BEGIN:STANDARD
TZOFFSETFROM:-0600
TZOFFSETTO:-0700
TZNAME:MST
DTSTART:20141102T080000
END:STANDARD
END:VTIMEZONE
BEGIN:VEVENT
DTSTART;TZID="America/Denver":20141016T180000
DTEND;TZID="America/Denver":20141023T180000
DTSTAMP:20260420T083701
CREATED:20141002T011758Z
LAST-MODIFIED:20141002T011945Z
UID:15667-1413482400-1414087200@www.quiltworx.com
SUMMARY:Crackers @ QuiltTrends\, Columbus\, OH
DESCRIPTION:What a cool quilt from Judy Niemeyer!! Grab a precut pack of Hoffman “Crackers” or our own “Susie Crack” of 10” squares\, plus the Crackers Pattern from Quiltworx and you’ve got a quilt\, Judy-style! An easy block\, and a great way to practice her foundation piecing! \n
URL:https://www.quiltworx.com/event/crackers/
LOCATION:QuiltTrends\, 6155 J Huntley Rd.\, Columbus\, OH\, 43229\, United States
CATEGORIES:Hoffman Crackers
ORGANIZER;CN="Sue%20Sandritter":MAILTO:QuiltTrends@hotmail.com
END:VEVENT
END:VCALENDAR