BEGIN:VCALENDAR
VERSION:2.0
PRODID:-//Quiltworx.com - ECPv4.9.6//NONSGML v1.0//EN
CALSCALE:GREGORIAN
METHOD:PUBLISH
X-WR-CALNAME:Quiltworx.com
X-ORIGINAL-URL:https://www.quiltworx.com
X-WR-CALDESC:Events for Quiltworx.com
BEGIN:VTIMEZONE
TZID:"America/Denver"
BEGIN:DAYLIGHT
TZOFFSETFROM:-0700
TZOFFSETTO:-0600
TZNAME:MDT
DTSTART:20230312T090000
END:DAYLIGHT
BEGIN:STANDARD
TZOFFSETFROM:-0600
TZOFFSETTO:-0700
TZNAME:MST
DTSTART:20231105T080000
END:STANDARD
END:VTIMEZONE
BEGIN:VEVENT
DTSTART;TZID="America/Denver":20230321T170000
DTEND;TZID="America/Denver":20230321T210000
DTSTAMP:20260423T132647
CREATED:20211006T161509Z
LAST-MODIFIED:20230216T163955Z
UID:101813-1679418000-1679432400@www.quiltworx.com
SUMMARY:Beginning Paper Piecing with CI Sandy Lieske
DESCRIPTION:\n\n\nBlue Moon Placemats and Crackers are beginner friendly Quiltworx patterns that teach you basic foundation paper piecing along with efficient chain piecing techniques\, so your project comes together quickly.  Please ask for a supply list and pre-class instructions to help you prepare for class or find these documents on The Quilt Crossing web page. \n  \n \n\n\n\n
URL:https://www.quiltworx.com/event/crackers-class-with-ci-sandy-lieske/
LOCATION:The Quilt Crossing\, 10959 W Fairview Ave\, Boise\, 83713\, United States
CATEGORIES:Sandy Lieske,The Quilt Crossing
ORGANIZER;CN="The%20Quilt%20Crossing":MAILTO:quiltcrossing@q.com
END:VEVENT
END:VCALENDAR