BEGIN:VCALENDAR
VERSION:2.0
PRODID:-//Quiltworx.com - ECPv4.9.6//NONSGML v1.0//EN
CALSCALE:GREGORIAN
METHOD:PUBLISH
X-WR-CALNAME:Quiltworx.com
X-ORIGINAL-URL:https://www.quiltworx.com
X-WR-CALDESC:Events for Quiltworx.com
BEGIN:VTIMEZONE
TZID:"America/Denver"
BEGIN:DAYLIGHT
TZOFFSETFROM:-0700
TZOFFSETTO:-0600
TZNAME:MDT
DTSTART:20140309T090000
END:DAYLIGHT
BEGIN:STANDARD
TZOFFSETFROM:-0600
TZOFFSETTO:-0700
TZNAME:MST
DTSTART:20141102T080000
END:STANDARD
END:VTIMEZONE
BEGIN:VEVENT
DTSTART;TZID="America/Denver":20141005T080000
DTEND;TZID="America/Denver":20141005T170000
DTSTAMP:20260423T105019
CREATED:20140717T231241Z
LAST-MODIFIED:20140717T231241Z
UID:14671-1412496000-1412528400@www.quiltworx.com
SUMMARY:CPQ Studio\, East Kingston\, NH ~ Bali Wedding Star & Bali Bed Runner ~ Workshop #2
DESCRIPTION:
URL:https://www.quiltworx.com/event/cpq-studio-east-kingston-nh-bali-wedding-star-bali-bed-runner-workshop-2/
LOCATION:Compass Point Quilts Studio\, 59 Sanborn Road\, East Kingston\, NH\, 03827\, United States
CATEGORIES:Bali Bed Runner 2014,Bali Wedding Star - DISCONTINUED,Lisa McCarthy
ORGANIZER;CN="Lisa%20McCarthy":MAILTO:compasspointquilts@gmail.com
END:VEVENT
END:VCALENDAR