BEGIN:VCALENDAR
VERSION:2.0
PRODID:-//Quiltworx.com - ECPv4.9.6//NONSGML v1.0//EN
CALSCALE:GREGORIAN
METHOD:PUBLISH
X-WR-CALNAME:Quiltworx.com
X-ORIGINAL-URL:https://www.quiltworx.com
X-WR-CALDESC:Events for Quiltworx.com
BEGIN:VTIMEZONE
TZID:"America/Denver"
BEGIN:DAYLIGHT
TZOFFSETFROM:-0700
TZOFFSETTO:-0600
TZNAME:MDT
DTSTART:20170312T090000
END:DAYLIGHT
BEGIN:STANDARD
TZOFFSETFROM:-0600
TZOFFSETTO:-0700
TZNAME:MST
DTSTART:20171105T080000
END:STANDARD
END:VTIMEZONE
BEGIN:VEVENT
DTSTART;TZID="America/Denver":20170304T100000
DTEND;TZID="America/Denver":20170304T160000
DTSTAMP:20260422T113022
CREATED:20170113T110545Z
LAST-MODIFIED:20170113T111115Z
UID:81617-1488621600-1488643200@www.quiltworx.com
SUMMARY:Cotton and Chocolate - Thousand Oaks\, CA
DESCRIPTION:Vintage Rose – it’s kick off time for Vintage Rose at Cotton and Chocolate\, join us monthly as we work our way through this new Judy Technique of the Month. We will also cover using Quiltster to design your quilt\, and color theory to make them your own. \n  \n1724 Avenida de Los Arboles \nSuite E \nThousand Oaks\, CA \n805-241-0061 \n
URL:https://www.quiltworx.com/event/cotton-and-chocolate-thousand-oaks-ca/2017-03-04/
LOCATION:Cotton and Chocolate\, 1724 E Avenida de Las Arboles\, Thousand Oaks\, CA\, 91362\, United States
CATEGORIES:Catherine Wilson
ORGANIZER;CN="Catherine%20Wilson":MAILTO:catherine@queeniequilts.com
END:VEVENT
END:VCALENDAR