BEGIN:VCALENDAR
VERSION:2.0
PRODID:-//Quiltworx.com - ECPv4.9.6//NONSGML v1.0//EN
CALSCALE:GREGORIAN
METHOD:PUBLISH
X-WR-CALNAME:Quiltworx.com
X-ORIGINAL-URL:https://www.quiltworx.com
X-WR-CALDESC:Events for Quiltworx.com
BEGIN:VTIMEZONE
TZID:"America/Denver"
BEGIN:DAYLIGHT
TZOFFSETFROM:-0700
TZOFFSETTO:-0600
TZNAME:MDT
DTSTART:20220313T090000
END:DAYLIGHT
BEGIN:STANDARD
TZOFFSETFROM:-0600
TZOFFSETTO:-0700
TZNAME:MST
DTSTART:20221106T080000
END:STANDARD
END:VTIMEZONE
BEGIN:VEVENT
DTSTART;TZID="America/Denver":20220219T103000
DTEND;TZID="America/Denver":20220219T153000
DTSTAMP:20260423T111052
CREATED:20220128T140646Z
LAST-MODIFIED:20220128T140646Z
UID:101884-1645266600-1645284600@www.quiltworx.com
SUMMARY:Coral Reef TOTM w/ CI Nancy Kloster 1 of 7
DESCRIPTION:Workshops are scheduled for: \nSaturday\, Feb 19th from 10:30 am – 3:30 pm \nSaturday\, March 19th from 10:30 am – 3:30 pm \nSaturday\, April 23rd from 10:30 am – 3:30 pm \nSaturday\, May 21st from 10:30 am – 3:30 pm \nSaturday\, June 25th from 10:30 am – 3:30 pm \nSaturday\, July 23rd from 10:30 am – 3:30 pm \nSaturday\, August 20th from 10:30 am – 3:30 pm \nhttps://www.sewelegant.com/ \n
URL:https://www.quiltworx.com/event/coral-reef-totm-w-ci-nancy-kloster-1-of-7/
LOCATION:RMC Quilts\, 3909 Pine Grove Ave.\, Fort Gratiot\, MI\, 48059\, United States
CATEGORIES:Coral Reef,Nancy Kloster
ATTACH;FMTTYPE=image/jpeg:https://d90udyyio1r4.cloudfront.net/wp-content/uploads/2021/01/NL-Header-Coral-Reef-ToM.jpg
END:VEVENT
END:VCALENDAR