BEGIN:VCALENDAR
VERSION:2.0
PRODID:-//Quiltworx.com - ECPv4.9.6//NONSGML v1.0//EN
CALSCALE:GREGORIAN
METHOD:PUBLISH
X-WR-CALNAME:Quiltworx.com
X-ORIGINAL-URL:https://www.quiltworx.com
X-WR-CALDESC:Events for Quiltworx.com
BEGIN:VTIMEZONE
TZID:"America/Denver"
BEGIN:DAYLIGHT
TZOFFSETFROM:-0700
TZOFFSETTO:-0600
TZNAME:MDT
DTSTART:20220313T090000
END:DAYLIGHT
BEGIN:STANDARD
TZOFFSETFROM:-0600
TZOFFSETTO:-0700
TZNAME:MST
DTSTART:20221106T080000
END:STANDARD
END:VTIMEZONE
BEGIN:VEVENT
DTSTART;TZID="America/Denver":20220214T080000
DTEND;TZID="America/Denver":20220214T170000
DTSTAMP:20260424T070218
CREATED:20211130T003102Z
LAST-MODIFIED:20211130T003102Z
UID:102249-1644825600-1644858000@www.quiltworx.com
SUMMARY:Coral Reef or Dinner Plate Dahlia (Day 4 of 6)
DESCRIPTION:
URL:https://www.quiltworx.com/event/coral-reef-or-dinner-plate-dahlia-day-4-of-6/
LOCATION:Charlotte Sewing Studio\, 1109 Tamiami Trail\, Port Charlotte\, FL\, 33953\, United States
CATEGORIES:Sharon Ralph
ORGANIZER;CN="Charlotte%20Sewing%20Studio":MAILTO:charlottesewing studio@comcast.net
END:VEVENT
END:VCALENDAR