BEGIN:VCALENDAR
VERSION:2.0
PRODID:-//Quiltworx.com - ECPv4.9.6//NONSGML v1.0//EN
CALSCALE:GREGORIAN
METHOD:PUBLISH
X-WR-CALNAME:Quiltworx.com
X-ORIGINAL-URL:https://www.quiltworx.com
X-WR-CALDESC:Events for Quiltworx.com
BEGIN:VTIMEZONE
TZID:"America/Denver"
BEGIN:DAYLIGHT
TZOFFSETFROM:-0700
TZOFFSETTO:-0600
TZNAME:MDT
DTSTART:20210314T090000
END:DAYLIGHT
BEGIN:STANDARD
TZOFFSETFROM:-0600
TZOFFSETTO:-0700
TZNAME:MST
DTSTART:20211107T080000
END:STANDARD
END:VTIMEZONE
BEGIN:VEVENT
DTSTART;TZID="America/Denver":20210410T103000
DTEND;TZID="America/Denver":20210410T160000
DTSTAMP:20260421T032425
CREATED:20210216T042207Z
LAST-MODIFIED:20210216T042207Z
UID:98797-1618050600-1618070400@www.quiltworx.com
SUMMARY:Coral Reef Class with CI Cathy Moore
DESCRIPTION:Class 4 of 6 for the newest Technique of the Month Pattern Coral Reef. \n
URL:https://www.quiltworx.com/event/coral-reef-class-with-ci-cathy-moore/
LOCATION:Fixin’ 2 Quilt\, 201 N 21st Ave\, Caldwell\, ID\, 83605\, United States
CATEGORIES:Cathy Moore,Coral Reef,Patterns
END:VEVENT
END:VCALENDAR