BEGIN:VCALENDAR
VERSION:2.0
PRODID:-//Quiltworx.com - ECPv4.9.6//NONSGML v1.0//EN
CALSCALE:GREGORIAN
METHOD:PUBLISH
X-WR-CALNAME:Quiltworx.com
X-ORIGINAL-URL:https://www.quiltworx.com
X-WR-CALDESC:Events for Quiltworx.com
BEGIN:VTIMEZONE
TZID:"America/Denver"
BEGIN:DAYLIGHT
TZOFFSETFROM:-0700
TZOFFSETTO:-0600
TZNAME:MDT
DTSTART:20140309T090000
END:DAYLIGHT
BEGIN:STANDARD
TZOFFSETFROM:-0600
TZOFFSETTO:-0700
TZNAME:MST
DTSTART:20141102T080000
END:STANDARD
END:VTIMEZONE
BEGIN:VEVENT
DTSTART;TZID="America/Denver":20140207T080000
DTEND;TZID="America/Denver":20140208T170000
DTSTAMP:20260422T063031
CREATED:20130512T071705Z
LAST-MODIFIED:20131228T061640Z
UID:8002-1391760000-1391878800@www.quiltworx.com
SUMMARY:Glacier Star\, Columbus\, OH
DESCRIPTION:Come create a “Judy” masterpiece at QuiltTrends in Columbus\, OH \n
URL:https://www.quiltworx.com/event/columbus-oh-2/
LOCATION:QuiltTrends\, 6155 J Huntley Rd.\, Columbus\, OH\, 43229\, United States
CATEGORIES:Glacier Star,Sue Wilson
END:VEVENT
END:VCALENDAR