BEGIN:VCALENDAR
VERSION:2.0
PRODID:-//Quiltworx.com - ECPv4.9.6//NONSGML v1.0//EN
CALSCALE:GREGORIAN
METHOD:PUBLISH
X-WR-CALNAME:Quiltworx.com
X-ORIGINAL-URL:https://www.quiltworx.com
X-WR-CALDESC:Events for Quiltworx.com
BEGIN:VTIMEZONE
TZID:"America/Denver"
BEGIN:DAYLIGHT
TZOFFSETFROM:-0700
TZOFFSETTO:-0600
TZNAME:MDT
DTSTART:20170312T090000
END:DAYLIGHT
BEGIN:STANDARD
TZOFFSETFROM:-0600
TZOFFSETTO:-0700
TZNAME:MST
DTSTART:20171105T080000
END:STANDARD
END:VTIMEZONE
BEGIN:VEVENT
DTSTART;TZID="America/Denver":20170728T100000
DTEND;TZID="America/Denver":20170730T170000
DTSTAMP:20260420T050954
CREATED:20161223T114148Z
LAST-MODIFIED:20161223T114148Z
UID:81250-1501236000-1501434000@www.quiltworx.com
SUMMARY:Christmas Celebration Tree Skirt Seminar
DESCRIPTION:This is a three-day class intended to teach you the process of foundation paper piecing. You will need to purchase a copy of the pattern listed above for this class. The patterns include the yardage instructions\, template making instructions\, and the foundation papers. Read your pattern prior to class. \nOrganization is the key to making this tree skirt. Prior to class\, it will be your responsibility to cut out the entire tree skirt and all of the foundation paper units. Please pay special attention in the pattern to instructions regarding grouping the particular foundation units and pieces together to make this quilt. It will save you a considerable amount of time and effort. \nComplete the cutting for each unit and organize according to the directions in the pattern. Bring them to class. \nIf you have never paper pieced before you must attend a pre-class cutting and preparation session. The date is to be determined but will be at least 3 weeks in advance of the seminar. \nA lunch break will be given each day. Lunch is not supplied. \n
URL:https://www.quiltworx.com/event/christmas-celebration-tree-skirt-seminar/
LOCATION:Quilter's Ranch\, 1721 E. Warner Road\, #C-8 \, Tempe\, AZ\, 85284\, United States
CATEGORIES:Christmas Celebration Tree Skirt 2014,Janet Valliere
ORGANIZER;CN="Quilter%27s%20Ranch":MAILTO:quiltersranch@aol.com
END:VEVENT
END:VCALENDAR