BEGIN:VCALENDAR
VERSION:2.0
PRODID:-//Quiltworx.com - ECPv4.9.6//NONSGML v1.0//EN
CALSCALE:GREGORIAN
METHOD:PUBLISH
X-WR-CALNAME:Quiltworx.com
X-ORIGINAL-URL:https://www.quiltworx.com
X-WR-CALDESC:Events for Quiltworx.com
BEGIN:VTIMEZONE
TZID:"America/Denver"
BEGIN:DAYLIGHT
TZOFFSETFROM:-0700
TZOFFSETTO:-0600
TZNAME:MDT
DTSTART:20170312T090000
END:DAYLIGHT
BEGIN:STANDARD
TZOFFSETFROM:-0600
TZOFFSETTO:-0700
TZNAME:MST
DTSTART:20171105T080000
END:STANDARD
END:VTIMEZONE
BEGIN:VEVENT
DTSTART;TZID="America/Denver":20171001T133000
DTEND;TZID="America/Denver":20171001T163000
DTSTAMP:20260423T215402
CREATED:20170531T002348Z
LAST-MODIFIED:20170831T203939Z
UID:84085-1506864600-1506875400@www.quiltworx.com
SUMMARY:Christmas Celebration Tree Skirt
DESCRIPTION:This is the second meeting for the Quiltworx pattern “Christmas Celebration Tree Skirt”.  Class will be held at the Honey Bee Quilt Store in Austin\, TX and you can enroll by calling them at 512-257-1269 or visiting the website at www.honeybeequiltstore.com. \n
URL:https://www.quiltworx.com/event/christmas-celebration-tree-skirt-11/
LOCATION:Honey Bee Quilt Store\, 9308 Anderson Mill Rd\, Austin\, TX\, 78729\, United States
CATEGORIES:Christmas Celebration Tree Skirt 2014,Terre Walker
END:VEVENT
END:VCALENDAR