BEGIN:VCALENDAR
VERSION:2.0
PRODID:-//Quiltworx.com - ECPv4.9.6//NONSGML v1.0//EN
CALSCALE:GREGORIAN
METHOD:PUBLISH
X-WR-CALNAME:Quiltworx.com
X-ORIGINAL-URL:https://www.quiltworx.com
X-WR-CALDESC:Events for Quiltworx.com
BEGIN:VTIMEZONE
TZID:"America/Denver"
BEGIN:DAYLIGHT
TZOFFSETFROM:-0700
TZOFFSETTO:-0600
TZNAME:MDT
DTSTART:20170312T090000
END:DAYLIGHT
BEGIN:STANDARD
TZOFFSETFROM:-0600
TZOFFSETTO:-0700
TZNAME:MST
DTSTART:20171105T080000
END:STANDARD
END:VTIMEZONE
BEGIN:VEVENT
DTSTART;TZID="America/Denver":20170715T133000
DTEND;TZID="America/Denver":20170715T163000
DTSTAMP:20260423T215402
CREATED:20170531T001942Z
LAST-MODIFIED:20170831T203734Z
UID:84082-1500125400-1500136200@www.quiltworx.com
SUMMARY:Christmas Celebration Tree Skirt
DESCRIPTION:Come join us for the Quiltworx pattern “Christmas Celebration Tree Skirt”.  This 60″ diameter circular tree skirt can also be finished as a table topper if preferred.  This project will teach you to make a star designed tree skirt that incorporates a circular geese design and ends with a saw-tooth outer border.  Class will be held at the Honey Bee Quilt Store in Austin\, TX and you can enroll by calling them at 512-257-1269 or visiting the website at www.honeybeequiltstore.com.  This is the first session of 2 class meetings. \n
URL:https://www.quiltworx.com/event/christmas-celebration-tree-skirt-10/
LOCATION:Honey Bee Quilt Store\, 9308 Anderson Mill Rd\, Austin\, TX\, 78729\, United States
CATEGORIES:Christmas Celebration Tree Skirt 2014,Terre Walker
END:VEVENT
END:VCALENDAR