BEGIN:VCALENDAR
VERSION:2.0
PRODID:-//Quiltworx.com - ECPv4.9.6//NONSGML v1.0//EN
CALSCALE:GREGORIAN
METHOD:PUBLISH
X-WR-CALNAME:Quiltworx.com
X-ORIGINAL-URL:https://www.quiltworx.com
X-WR-CALDESC:Events for Quiltworx.com
BEGIN:VTIMEZONE
TZID:"America/Denver"
BEGIN:DAYLIGHT
TZOFFSETFROM:-0700
TZOFFSETTO:-0600
TZNAME:MDT
DTSTART:20150308T090000
END:DAYLIGHT
BEGIN:STANDARD
TZOFFSETFROM:-0600
TZOFFSETTO:-0700
TZNAME:MST
DTSTART:20151101T080000
END:STANDARD
END:VTIMEZONE
BEGIN:VEVENT
DTSTART;TZID="America/Denver":20150615T100000
DTEND;TZID="America/Denver":20150615T163000
DTSTAMP:20260419T190453
CREATED:20150330T165557Z
LAST-MODIFIED:20150331T201840Z
UID:18312-1434362400-1434385800@www.quiltworx.com
SUMMARY:Celtic Wave Part 4
DESCRIPTION:Come learn how to make this beautiful Judy Niemeyer quilt. This is a four-part class. This first day will be cutting and organizing your fabrics. Organization is key.  Day 2-4 will be sewing days \n
URL:https://www.quiltworx.com/event/celtic-wave-part-4/
LOCATION:Quiltz\, 3851 E. Thunderbird Road\, Suite B107\, Phoenix\, AZ\, 85032\, United States
CATEGORIES:Celtic Wave,Quiltz
END:VEVENT
END:VCALENDAR