BEGIN:VCALENDAR
VERSION:2.0
PRODID:-//Quiltworx.com - ECPv4.9.6//NONSGML v1.0//EN
CALSCALE:GREGORIAN
METHOD:PUBLISH
X-WR-CALNAME:Quiltworx.com
X-ORIGINAL-URL:https://www.quiltworx.com
X-WR-CALDESC:Events for Quiltworx.com
BEGIN:VTIMEZONE
TZID:"America/Denver"
BEGIN:DAYLIGHT
TZOFFSETFROM:-0700
TZOFFSETTO:-0600
TZNAME:MDT
DTSTART:20150308T090000
END:DAYLIGHT
BEGIN:STANDARD
TZOFFSETFROM:-0600
TZOFFSETTO:-0700
TZNAME:MST
DTSTART:20151101T080000
END:STANDARD
END:VTIMEZONE
BEGIN:VEVENT
DTSTART;TZID="America/Denver":20150509T090000
DTEND;TZID="America/Denver":20150509T150000
DTSTAMP:20260423T013914
CREATED:20150426T091304Z
LAST-MODIFIED:20150426T091305Z
UID:18737-1431162000-1431183600@www.quiltworx.com
SUMMARY:Cattails in the Meadow Class 1 of 2
DESCRIPTION:Have you been intimidated by paper piecing? This is an excellent class to learn Judy Niemeyer’s method that will have you hooked on paper piecing in no time. This quilt does have some applique and you can do that by machine if you do not sew by hand. \nThis will be a two day class taught 1 day for two months\, May 9th and June 13th of 2015. \nThings you will learn will be Applique; Cutting and Preparing Foundation Papers; Floating Points; Paper Piecing; Template Layout; and Tools for Paper Piecing. \nYou can see my completed Cattails in the Meadow at Merrily We Quilt Along in Springfield\, MO. \nBeginners are welcome. \nNeed to precut before start of class. Instructions are attached\, or are available at Merrily We Quilt Along. \nPlan on learning a lot and having fun!! \n
URL:https://www.quiltworx.com/event/cattails-in-the-meadow-class-1-of-2/
CATEGORIES:Cattails in the Meadow,May Black
END:VEVENT
END:VCALENDAR