BEGIN:VCALENDAR
VERSION:2.0
PRODID:-//Quiltworx.com - ECPv4.9.6//NONSGML v1.0//EN
CALSCALE:GREGORIAN
METHOD:PUBLISH
X-WR-CALNAME:Quiltworx.com
X-ORIGINAL-URL:https://www.quiltworx.com
X-WR-CALDESC:Events for Quiltworx.com
BEGIN:VTIMEZONE
TZID:"America/Chicago"
BEGIN:DAYLIGHT
TZOFFSETFROM:-0600
TZOFFSETTO:-0500
TZNAME:CDT
DTSTART:20230312T080000
END:DAYLIGHT
BEGIN:STANDARD
TZOFFSETFROM:-0500
TZOFFSETTO:-0600
TZNAME:CST
DTSTART:20231105T070000
END:STANDARD
END:VTIMEZONE
BEGIN:VEVENT
DTSTART;TZID="America/Chicago":20230721T093000
DTEND;TZID="America/Chicago":20230723T160000
DTSTAMP:20260424T155118
CREATED:20230120T152342Z
LAST-MODIFIED:20230120T152342Z
UID:105249-1689931800-1690128000@www.quiltworx.com
SUMMARY:Carnival Flower Class\, Session 2\, Acme Fabric and Quilt Co.\, Blair\, NE\, July 21\, 22\, 23\, 2023
DESCRIPTION:
URL:https://www.quiltworx.com/event/carnival-flower-class-session-2-acme-fabric-and-quilt-co-blair-ne-july-21-22-23-2023/
LOCATION:Acme Fabric and Quilt Co.\, 1716 Washington St. \, Blair\, NE   68008\, NE\, 68008\, United States
CATEGORIES:Carnival Flower,Connie Lange
ORGANIZER;CN="Acme%20Fabric%20and%20Quilt%20Company":MAILTO:coyote@acmefabric.com
END:VEVENT
END:VCALENDAR