BEGIN:VCALENDAR
VERSION:2.0
PRODID:-//Quiltworx.com - ECPv4.9.6//NONSGML v1.0//EN
CALSCALE:GREGORIAN
METHOD:PUBLISH
X-WR-CALNAME:Quiltworx.com
X-ORIGINAL-URL:https://www.quiltworx.com
X-WR-CALDESC:Events for Quiltworx.com
BEGIN:VTIMEZONE
TZID:"America/Chicago"
BEGIN:DAYLIGHT
TZOFFSETFROM:-0600
TZOFFSETTO:-0500
TZNAME:CDT
DTSTART:20230312T080000
END:DAYLIGHT
BEGIN:STANDARD
TZOFFSETFROM:-0500
TZOFFSETTO:-0600
TZNAME:CST
DTSTART:20231105T070000
END:STANDARD
END:VTIMEZONE
BEGIN:VEVENT
DTSTART;TZID="America/Chicago":20231013T093000
DTEND;TZID="America/Chicago":20231015T160000
DTSTAMP:20260423T161830
CREATED:20230120T152030Z
LAST-MODIFIED:20230120T152030Z
UID:105268-1697189400-1697385600@www.quiltworx.com
SUMMARY:Carnival Flower Class Session 1\, Material Girl\, Grand Island\, NE\, October 13\, 14\, 15\, 2023
DESCRIPTION:
URL:https://www.quiltworx.com/event/carnival-flower-class-session-1-material-girl-grand-island-ne-october-13-14-15-2023/
LOCATION:Material Girl\, 3415 State St.\, Grand Island\, NE\, 68803\, Select a Country:
CATEGORIES:Carnival Flower,Connie Lange
ORGANIZER;CN="Material%20Girl":MAILTO:materialgirl@mgfabric.com
END:VEVENT
END:VCALENDAR