BEGIN:VCALENDAR
VERSION:2.0
PRODID:-//Quiltworx.com - ECPv4.9.6//NONSGML v1.0//EN
CALSCALE:GREGORIAN
METHOD:PUBLISH
X-WR-CALNAME:Quiltworx.com
X-ORIGINAL-URL:https://www.quiltworx.com
X-WR-CALDESC:Events for Quiltworx.com
BEGIN:VTIMEZONE
TZID:"America/Detroit"
BEGIN:DAYLIGHT
TZOFFSETFROM:-0500
TZOFFSETTO:-0400
TZNAME:EDT
DTSTART:20230312T070000
END:DAYLIGHT
BEGIN:STANDARD
TZOFFSETFROM:-0400
TZOFFSETTO:-0500
TZNAME:EST
DTSTART:20231105T060000
END:STANDARD
END:VTIMEZONE
BEGIN:VEVENT
DTSTART;TZID="America/Detroit":20230526T090000
DTEND;TZID="America/Detroit":20230526T160000
DTSTAMP:20260422T223535
CREATED:20230204T173341Z
LAST-MODIFIED:20230204T173835Z
UID:105770-1685091600-1685116800@www.quiltworx.com
SUMMARY:Carnival Flower- 6 of 8 with Tammy Gardner
DESCRIPTION: \nI will guide you through the brand new Carnival Flower Technique of the Month pattern.  Includes a free Quiltster coloration\, if needed.  Patterns must be purchased through me.  We will meet the last Thursday and Friday of the month\, March through June\, from 9am to 4pm.  Bring your lunch and drinks.  Hotels less than 10 minutes away in northern Elkhart\, Indiana.  You must email for more information and registration form: tamquilts@gmail.com \n\nMarch 30\, 2023\nMarch 31\, 2023\nApril 27\, 2023\nApril 28\, 2023\nMay 25\, 2023\nMay 26\, 2023\nJune 29\, 2023\nJune 30\, 2023\n\n
URL:https://www.quiltworx.com/event/carnival-flower-6-of-8/
LOCATION:TamQuilts 'n Pieces Studio\, 67606 Lost Rd\, Cassopolis\, MI\, 49031\, United States
CATEGORIES:Carnival Flower,Tammy Gardner
ORGANIZER;CN="Tammy%20Gardner":MAILTO:tamquilts@gmail.com
END:VEVENT
END:VCALENDAR