BEGIN:VCALENDAR
VERSION:2.0
PRODID:-//Quiltworx.com - ECPv4.9.6//NONSGML v1.0//EN
CALSCALE:GREGORIAN
METHOD:PUBLISH
X-WR-CALNAME:Quiltworx.com
X-ORIGINAL-URL:https://www.quiltworx.com
X-WR-CALDESC:Events for Quiltworx.com
BEGIN:VTIMEZONE
TZID:"America/Denver"
BEGIN:DAYLIGHT
TZOFFSETFROM:-0700
TZOFFSETTO:-0600
TZNAME:MDT
DTSTART:20230312T090000
END:DAYLIGHT
BEGIN:STANDARD
TZOFFSETFROM:-0600
TZOFFSETTO:-0700
TZNAME:MST
DTSTART:20231105T080000
END:STANDARD
END:VTIMEZONE
BEGIN:VEVENT
DTSTART;TZID="America/Denver":20230709T100000
DTEND;TZID="America/Denver":20230709T160000
DTSTAMP:20260420T120316
CREATED:20230327T032511Z
LAST-MODIFIED:20230327T055636Z
UID:106435-1688896800-1688918400@www.quiltworx.com
SUMMARY:Carnival Flower - 3 of 6 class series
DESCRIPTION:In our Salem NH studio and via ZOOM we will continue to work on our Carnival Flower quilts\, one unit at a time! \nThere will be video tutorials available after each class\, and for those who miss a class – so its not too late to sign up with CI Donna Viau at The Masquerade! \nClick HERE for more info and to purchase a seat! \nEach class will be held from 10am – 4pm (Eastern Time)\, with all of the class instruction happening before 1pm.  The afternoon will be for quilting and visiting while we work through the units of the day.  If anyone needs to leave early – no problem! – you will get the video tutorial link to use when you get back to your project. \n  \n
URL:https://www.quiltworx.com/event/carnival-flower-3-of-6-class-series/
LOCATION:The Masquerade Costumes & Quilts\, 4 Joanna Rd\, Salem\, NH\, 03079\, United States
CATEGORIES:Carnival Flower,Donna Viau,Donna Viau,Zoom
ORGANIZER;CN="Donna%20Viau":MAILTO:TheMasqueradeNH@gmail.com
END:VEVENT
END:VCALENDAR