BEGIN:VCALENDAR
VERSION:2.0
PRODID:-//Quiltworx.com - ECPv4.9.6//NONSGML v1.0//EN
CALSCALE:GREGORIAN
METHOD:PUBLISH
X-WR-CALNAME:Quiltworx.com
X-ORIGINAL-URL:https://www.quiltworx.com
X-WR-CALDESC:Events for Quiltworx.com
BEGIN:VTIMEZONE
TZID:"America/Denver"
BEGIN:DAYLIGHT
TZOFFSETFROM:-0700
TZOFFSETTO:-0600
TZNAME:MDT
DTSTART:20200308T090000
END:DAYLIGHT
BEGIN:STANDARD
TZOFFSETFROM:-0600
TZOFFSETTO:-0700
TZNAME:MST
DTSTART:20201101T080000
END:STANDARD
END:VTIMEZONE
BEGIN:VEVENT
DTSTART;TZID="America/Denver":20200605T100000
DTEND;TZID="America/Denver":20200607T170000
DTSTAMP:20260423T090415
CREATED:20200605T182141Z
LAST-MODIFIED:20200605T182141Z
UID:97273-1591351200-1591549200@www.quiltworx.com
SUMMARY:Cappuccino Placemats\, Stepping Stones quilt or Farmhouse Window table runner\, June 5 - 7\,2020 The Quilt Shop\, Wakefield\, NE
DESCRIPTION:
URL:https://www.quiltworx.com/event/cappuccino-placemats-stepping-stones-quilt-or-farmhouse-window-table-runner-june-5-72020-the-quilt-shop-wakefield-ne/
LOCATION:The Quilt Shop\, 314 Main St\, Wakefield\, NE\, 68784\, United States
CATEGORIES:Cappuccino - A Party for 4,Connie Lange,Stepping Stones
END:VEVENT
END:VCALENDAR