BEGIN:VCALENDAR
VERSION:2.0
PRODID:-//Quiltworx.com - ECPv4.9.6//NONSGML v1.0//EN
CALSCALE:GREGORIAN
METHOD:PUBLISH
X-WR-CALNAME:Quiltworx.com
X-ORIGINAL-URL:https://www.quiltworx.com
X-WR-CALDESC:Events for Quiltworx.com
BEGIN:VTIMEZONE
TZID:"America/Denver"
BEGIN:DAYLIGHT
TZOFFSETFROM:-0700
TZOFFSETTO:-0600
TZNAME:MDT
DTSTART:20190310T090000
END:DAYLIGHT
BEGIN:STANDARD
TZOFFSETFROM:-0600
TZOFFSETTO:-0700
TZNAME:MST
DTSTART:20191103T080000
END:STANDARD
END:VTIMEZONE
BEGIN:VEVENT
DTSTART;TZID="America/Denver":20190405T170000
DTEND;TZID="America/Denver":20190407T163000
DTSTAMP:20260424T061828
CREATED:20190319T033206Z
LAST-MODIFIED:20190319T033206Z
UID:92885-1554483600-1554654600@www.quiltworx.com
SUMMARY:Cappuccino place-mats\, Stepping Stones or Farmhouse Window\, The Quilt Shop\, Wakefield\, NE April 5\, 6\, 7\, 2019
DESCRIPTION:Class times are Friday from 5 to 10 PM\, Saturday and Sunday from 9:30 AM to 4:30 PM. \n
URL:https://www.quiltworx.com/event/cappuccino-place-mats-stepping-stones-or-farmhouse-window-the-quilt-shop-wakefield-ne-april-5-6-7-2019/
CATEGORIES:Cappuccino - A Party for 4,Connie Lange,Stepping Stones
END:VEVENT
END:VCALENDAR