BEGIN:VCALENDAR
VERSION:2.0
PRODID:-//Quiltworx.com - ECPv4.9.6//NONSGML v1.0//EN
CALSCALE:GREGORIAN
METHOD:PUBLISH
X-WR-CALNAME:Quiltworx.com
X-ORIGINAL-URL:https://www.quiltworx.com
X-WR-CALDESC:Events for Quiltworx.com
BEGIN:VTIMEZONE
TZID:"America/Denver"
BEGIN:DAYLIGHT
TZOFFSETFROM:-0700
TZOFFSETTO:-0600
TZNAME:MDT
DTSTART:20190310T090000
END:DAYLIGHT
BEGIN:STANDARD
TZOFFSETFROM:-0600
TZOFFSETTO:-0700
TZNAME:MST
DTSTART:20191103T080000
END:STANDARD
END:VTIMEZONE
BEGIN:VEVENT
DTSTART;TZID="America/Denver":20190324T130000
DTEND;TZID="America/Denver":20190324T170000
DTSTAMP:20260424T075710
CREATED:20190319T032815Z
LAST-MODIFIED:20190319T032815Z
UID:92882-1553432400-1553446800@www.quiltworx.com
SUMMARY:Cappuccino place-mats\, Stepping Stones or Farmhouse Window cutting class\, The Quilt Shop\, Wakefield\, NE\, March 24\, 2019
DESCRIPTION:
URL:https://www.quiltworx.com/event/cappuccino-place-mats-stepping-stones-or-farmhouse-window-cutting-class-the-quilt-shop-wakefield-ne-march-24-2019/
LOCATION:The Quilt Shop\, 314 Main St\, Wakefield\, NE\, 68784\, United States
CATEGORIES:Cappuccino - A Party for 4,Connie Lange,Stepping Stones
END:VEVENT
END:VCALENDAR