BEGIN:VCALENDAR
VERSION:2.0
PRODID:-//Quiltworx.com - ECPv4.9.6//NONSGML v1.0//EN
CALSCALE:GREGORIAN
METHOD:PUBLISH
X-WR-CALNAME:Quiltworx.com
X-ORIGINAL-URL:https://www.quiltworx.com
X-WR-CALDESC:Events for Quiltworx.com
BEGIN:VTIMEZONE
TZID:"America/Denver"
BEGIN:DAYLIGHT
TZOFFSETFROM:-0700
TZOFFSETTO:-0600
TZNAME:MDT
DTSTART:20140309T090000
END:DAYLIGHT
BEGIN:STANDARD
TZOFFSETFROM:-0600
TZOFFSETTO:-0700
TZNAME:MST
DTSTART:20141102T080000
END:STANDARD
END:VTIMEZONE
BEGIN:VEVENT
DTSTART;TZID="America/Denver":20140130T180000
DTEND;TZID="America/Denver":20140130T210000
DTSTAMP:20260424T032848
CREATED:20130509T183805Z
LAST-MODIFIED:20130509T183805Z
UID:7942-1391104800-1391115600@www.quiltworx.com
SUMMARY:Calico Shoppe - Cabin Fever (Session Two)
DESCRIPTION:
URL:https://www.quiltworx.com/event/calico-shoppe-cabin-fever-session-two/
LOCATION:Calico Shoppe\, 214 S. Barstow St.\, Eau Claire\, WI\, 54701\, United States
CATEGORIES:Cabin Fever,Jodie Madison
ORGANIZER;CN="Lynn%20Goelzer":MAILTO:lynng@calicoshoppe.com
END:VEVENT
END:VCALENDAR