BEGIN:VCALENDAR
VERSION:2.0
PRODID:-//Quiltworx.com - ECPv4.9.6//NONSGML v1.0//EN
CALSCALE:GREGORIAN
METHOD:PUBLISH
X-WR-CALNAME:Quiltworx.com
X-ORIGINAL-URL:https://www.quiltworx.com
X-WR-CALDESC:Events for Quiltworx.com
BEGIN:VTIMEZONE
TZID:"America/Denver"
BEGIN:DAYLIGHT
TZOFFSETFROM:-0700
TZOFFSETTO:-0600
TZNAME:MDT
DTSTART:20140309T090000
END:DAYLIGHT
BEGIN:STANDARD
TZOFFSETFROM:-0600
TZOFFSETTO:-0700
TZNAME:MST
DTSTART:20141102T080000
END:STANDARD
END:VTIMEZONE
BEGIN:VEVENT
DTSTART;VALUE=DATE:20141002
DTEND;VALUE=DATE:20141003
DTSTAMP:20260419T223943
CREATED:20140910T044049Z
LAST-MODIFIED:20140913T023543Z
UID:15384-1412208000-1412294399@www.quiltworx.com
SUMMARY:Compass Rose Tablerunner w/ Jane Reents
DESCRIPTION: The Compass Rose Tablerunner elements are found in the Technique of the month pattern\, Mariner’s Compass. Cactus Rose Table Runner will be a two day class on Thursday’s.\nFirst day of class. Next class is October 30th. \nCompass Rose Table Runner\nJudy Niemeyer Quilting\nwww.quiltworx.com \nPre-cutting the fabrics is a mandatory requirement prior to taking this course. Please begin preparing for class at least 1-WEEK prior to the class to make sure that you are able to get familiar with your pattern and complete the pre-cutting beforehand. It is important that you have your pre-class cutting completed. If this step is not completed\, you will have a very difficult time keeping up and participating in the instruction. We recommend reading through your entire pattern before beginning. \nCORRECTIONS: PLEASE visit our website prior to class and before cutting out your fabric to make sure that you have the latest corrections for the pattern.  Corrections are listed in our pattern gallery on our website at. http://www.quiltworx.com/corrections/ Click on the Cactus Flower Table Runner pattern and check the right column of the webpage for more information.  If your pattern has a QR Code printed on the back\, you may also scan this with your smartphone to go directly to the page and upload the corrections to your phone.  \nFoundation Papers and Template Sheets: Please refer to Page 1 of your pattern (under the 1st QR code) \, and ‘Setting up your Bags #1-3’ on Page 2 of your pattern.  \nCutting Instructions: Please read through ‘General Information’ on page 1 of your pattern before completing the steps below. If you didn’t look up the corrections be sure you do it now! Note: Please make sure all of the Template Sheets\, Foundation Sheets\, and fabric pieces are placed in the correct bags!   \nWhen cutting out your pattern and fabric\, do ONE step at a time so you don’t get overwhelmed.\nThe following videos may not be for the pattern you are working on\,  but it gives you an idea of how to stack and cut out. \nWatch You Tube videos on cutting out your on tools\, foundation papers\, and fabric before cutting.\n	https://www.youtube.com/watch?v=X5DMxDfYlw0\n	Tools used and why https://www.youtube.com/watch?v=EkN2zkVqUaM\n	Cutting out your fabric:   https://www.youtube.com/watch?v=Esd_qtvTeHc \nCutting Instructions begin on page 3: Follow the first two steps for each unit under ‘Cutting Instructions.\n	Bag #1\, Center Spikes’ on page 2 of your pattern\, ‘Cutting Instructions\,\n	Bag #2\, Unit M’ on page 3 of your pattern\, and ‘Cutting Instructions\n	Bag #3\, Background Border’ on page 3 of your pattern.\n	The following items are needed to make this quilt.  Please make sure you bring the following items to class if they will not be provided by the organizer. They are essential to the techniques I teach:\nSewing Machine with a quarter-inch foot and Accessories\nSteam Iron ~\nIroning mat\n12″ Add-a-quarter ruler\nPurple Thang\n6″ by 12″ ruler\nMedium size cutting mat (18” by 24”)\nRotary cutter 45mm or 60 mm\nNew rotary blade\nSize 70 needles (Microtex Sharp recommended)\nScissors\nSeam ripper\nSurge protectors and Extension cords (We STRONGLY recommend making sure you have these to make sure you have power for your sewing machine).\nGlue Pen (Fons and Porter\, Sewline\, or Avery recommended)\nAurifil sewing thread\nFlower pins\nScotch Tape\n3- Large Ziploc Bags – Make sure to bring them labeled and full of your fabric pieces according to the cutting directions on the day of class!\nBinder Clips to hook all papers and fabric in order in each bag\nLarge Paper Clips to hook each section together \nIf you have any questions regarding this class\, please contact your instructor directly: Jane Reents 847-526-6013 or wjreents@hotmail.com\n You may also want to check out our website www.quiltworx.com and our facebook page quiltworx.com prior to selecting fabrics. There are many samples\, slide shows\, and color-changing quilts available for you to enjoy.  \nJudy Niemeyer and Jane Reents \n
URL:https://www.quiltworx.com/event/cactus-rose-tablerunner-w-jane-reents/
CATEGORIES:Jane Reents
END:VEVENT
END:VCALENDAR