BEGIN:VCALENDAR
VERSION:2.0
PRODID:-//Quiltworx.com - ECPv4.9.6//NONSGML v1.0//EN
CALSCALE:GREGORIAN
METHOD:PUBLISH
X-WR-CALNAME:Quiltworx.com
X-ORIGINAL-URL:https://www.quiltworx.com
X-WR-CALDESC:Events for Quiltworx.com
BEGIN:VTIMEZONE
TZID:"America/Denver"
BEGIN:DAYLIGHT
TZOFFSETFROM:-0700
TZOFFSETTO:-0600
TZNAME:MDT
DTSTART:20150308T090000
END:DAYLIGHT
BEGIN:STANDARD
TZOFFSETFROM:-0600
TZOFFSETTO:-0700
TZNAME:MST
DTSTART:20151101T080000
END:STANDARD
END:VTIMEZONE
BEGIN:VEVENT
DTSTART;TZID="America/Denver":20151016T170000
DTEND;TZID="America/Denver":20151019T100000
DTSTAMP:20260424T114018
CREATED:20150828T094739Z
LAST-MODIFIED:20150828T094739Z
UID:21119-1445014800-1445248800@www.quiltworx.com
SUMMARY:Cabin Fever and More
DESCRIPTION:
URL:https://www.quiltworx.com/event/cabin-fever-and-more/
LOCATION:Elkview Lodge\, Fernie\, British Columba\, Canada
CATEGORIES:Cabin Fever,Country Picnic,Osprey's Nest Log Cabin,Osprey's Nest: At the Lake Cabin
ORGANIZER;CN="Martha%20Penner":MAILTO:prairiemountainquilting@gmail.com
END:VEVENT
END:VCALENDAR