BEGIN:VCALENDAR
VERSION:2.0
PRODID:-//Quiltworx.com - ECPv4.9.6//NONSGML v1.0//EN
CALSCALE:GREGORIAN
METHOD:PUBLISH
X-WR-CALNAME:Quiltworx.com
X-ORIGINAL-URL:https://www.quiltworx.com
X-WR-CALDESC:Events for Quiltworx.com
BEGIN:VTIMEZONE
TZID:"America/Denver"
BEGIN:DAYLIGHT
TZOFFSETFROM:-0700
TZOFFSETTO:-0600
TZNAME:MDT
DTSTART:20170312T090000
END:DAYLIGHT
BEGIN:STANDARD
TZOFFSETFROM:-0600
TZOFFSETTO:-0700
TZNAME:MST
DTSTART:20171105T080000
END:STANDARD
END:VTIMEZONE
BEGIN:VEVENT
DTSTART;TZID="America/Denver":20170508T100000
DTEND;TZID="America/Denver":20170508T160000
DTSTAMP:20260425T001305
CREATED:20170314T065703Z
LAST-MODIFIED:20170314T071858Z
UID:82912-1494237600-1494259200@www.quiltworx.com
SUMMARY:Broken Daisy Placemats at Glacier Quilts\, Kalispell\, MT
DESCRIPTION:This is a great beginner paper piecing project.  A sewing technique called foundation paper piecing is used to assemble the units required to make this quilt. Curved piecing is used to join the units after the foundation piecing is completed.  Come join Jenny for this one day workshop to learn the basics of Judy Niemeyer paper piecing. \nVisit our website to sign up online or give us a call to reserve your seat! \n
URL:https://www.quiltworx.com/event/broken-daisy-placemats-at-glacier-quilts-kalispell-mt/
LOCATION:Glacier Quilts\, 125 Hutton Ranch Rd.\, Kalispell\, MT\, 59901\, United States
CATEGORIES:Broken Daisy Placemats,Glacier Quilts,Judy Niemeyer Classes
ATTACH;FMTTYPE=image/jpeg:https://d90udyyio1r4.cloudfront.net/wp-content/uploads/2013/09/Broken-Daisy-Placemats-WF_600.jpg
ORGANIZER;CN="Glacier%20Quilts":MAILTO:glacierquilts@optimum.net
END:VEVENT
END:VCALENDAR