BEGIN:VCALENDAR
VERSION:2.0
PRODID:-//Quiltworx.com - ECPv4.9.6//NONSGML v1.0//EN
CALSCALE:GREGORIAN
METHOD:PUBLISH
X-WR-CALNAME:Quiltworx.com
X-ORIGINAL-URL:https://www.quiltworx.com
X-WR-CALDESC:Events for Quiltworx.com
BEGIN:VTIMEZONE
TZID:"America/Denver"
BEGIN:DAYLIGHT
TZOFFSETFROM:-0700
TZOFFSETTO:-0600
TZNAME:MDT
DTSTART:20180311T090000
END:DAYLIGHT
BEGIN:STANDARD
TZOFFSETFROM:-0600
TZOFFSETTO:-0700
TZNAME:MST
DTSTART:20181104T080000
END:STANDARD
END:VTIMEZONE
BEGIN:VEVENT
DTSTART;TZID="America/Denver":20180406T093000
DTEND;TZID="America/Denver":20180406T153000
DTSTAMP:20260422T214023
CREATED:20170704T084746Z
LAST-MODIFIED:20180311T234224Z
UID:84828-1523007000-1523028600@www.quiltworx.com
SUMMARY:Impatiens Placemats
DESCRIPTION:
URL:https://www.quiltworx.com/event/broken-daisy-placemats-7/
LOCATION:Sinnissippi Quilters Guild\, 2101 E State St  \, Rockford\, IL\, United States
CATEGORIES:Broken Daisy Placemats,Donna Mather
END:VEVENT
END:VCALENDAR