BEGIN:VCALENDAR
VERSION:2.0
PRODID:-//Quiltworx.com - ECPv4.9.6//NONSGML v1.0//EN
CALSCALE:GREGORIAN
METHOD:PUBLISH
X-WR-CALNAME:Quiltworx.com
X-ORIGINAL-URL:https://www.quiltworx.com
X-WR-CALDESC:Events for Quiltworx.com
BEGIN:VTIMEZONE
TZID:"America/Denver"
BEGIN:DAYLIGHT
TZOFFSETFROM:-0700
TZOFFSETTO:-0600
TZNAME:MDT
DTSTART:20230312T090000
END:DAYLIGHT
BEGIN:STANDARD
TZOFFSETFROM:-0600
TZOFFSETTO:-0700
TZNAME:MST
DTSTART:20231105T080000
END:STANDARD
END:VTIMEZONE
BEGIN:VEVENT
DTSTART;VALUE=DATE:20230425
DTEND;VALUE=DATE:20230430
DTSTAMP:20260422T175108
CREATED:20230217T181236Z
LAST-MODIFIED:20230326T195706Z
UID:105954-1682380800-1682812799@www.quiltworx.com
SUMMARY:BobKat Retreat in Shipshewana\, Indiana with CI Kathryn Groves
DESCRIPTION:Join me for a 4 1/2 day retreat in the heart of beautiful Indiana Amish Country.  We’ll we working on Carnival Flower or the pattern of your choosing! \nEach participant has their own table and is within walking distance to 3 outstanding Quilt Shops — including Certified Shops Yoder Department Store and The Cotton Corner. \nArrival:  Tuesday\, April 25 with Saturday\, April 29 departure! \nTrunk Show Wednesday night! \nemail Kathy for more information:  kathy@bobkatquilts.com \n
URL:https://www.quiltworx.com/event/bobkat-retreat-in-shipshewana-indiana/
CATEGORIES:BobKat Quilts,Kathryn Groves,Kathryn Groves
ATTACH;FMTTYPE=image/jpeg:https://d90udyyio1r4.cloudfront.net/wp-content/uploads/2023/02/Farmstead-Inn-Image-2.jpg
ORGANIZER;CN="Kathryn%20Groves":MAILTO:kathy@bobkatquilts.com
END:VEVENT
END:VCALENDAR