BEGIN:VCALENDAR
VERSION:2.0
PRODID:-//Quiltworx.com - ECPv4.9.6//NONSGML v1.0//EN
CALSCALE:GREGORIAN
METHOD:PUBLISH
X-WR-CALNAME:Quiltworx.com
X-ORIGINAL-URL:https://www.quiltworx.com
X-WR-CALDESC:Events for Quiltworx.com
BEGIN:VTIMEZONE
TZID:"America/Denver"
BEGIN:DAYLIGHT
TZOFFSETFROM:-0700
TZOFFSETTO:-0600
TZNAME:MDT
DTSTART:20140309T090000
END:DAYLIGHT
BEGIN:STANDARD
TZOFFSETFROM:-0600
TZOFFSETTO:-0700
TZNAME:MST
DTSTART:20141102T080000
END:STANDARD
END:VTIMEZONE
BEGIN:VEVENT
DTSTART;VALUE=DATE:20140314
DTEND;VALUE=DATE:20140317
DTSTAMP:20260424T225332
CREATED:20130222T014015Z
LAST-MODIFIED:20130225T101920Z
UID:6272-1394755200-1395014399@www.quiltworx.com
SUMMARY:Bali Bed Runner Retreat ~ Strong House Inn\, Vergennes\, VT
DESCRIPTION:Join Jackie for this fabulous 3 day retreat at the beautiful Strong House Inn in Vergennes\, VT.  During this retreat we will be making the Bali Bed Runner \n
URL:https://www.quiltworx.com/event/bali-bed-runner-retreat-strong-house-inn-vergennes-vt/
LOCATION:Strong House Inn\, 94 West Main Street\, Vergennes\, VT\, 05491\, United States
CATEGORIES:Bali Bed Runner 2014,Jackie Kunkel
ORGANIZER;CN="Mary%20Bargiel":MAILTO:stronghouse@comcast.net
END:VEVENT
END:VCALENDAR