BEGIN:VCALENDAR
VERSION:2.0
PRODID:-//Quiltworx.com - ECPv4.9.6//NONSGML v1.0//EN
CALSCALE:GREGORIAN
METHOD:PUBLISH
X-WR-CALNAME:Quiltworx.com
X-ORIGINAL-URL:https://www.quiltworx.com
X-WR-CALDESC:Events for Quiltworx.com
BEGIN:VTIMEZONE
TZID:"America/Denver"
BEGIN:DAYLIGHT
TZOFFSETFROM:-0700
TZOFFSETTO:-0600
TZNAME:MDT
DTSTART:20130310T090000
END:DAYLIGHT
BEGIN:STANDARD
TZOFFSETFROM:-0600
TZOFFSETTO:-0700
TZNAME:MST
DTSTART:20131103T080000
END:STANDARD
END:VTIMEZONE
BEGIN:VEVENT
DTSTART;TZID="America/Denver":20130209T090000
DTEND;TZID="America/Denver":20130209T160000
DTSTAMP:20260424T043525
CREATED:20130111T012750Z
LAST-MODIFIED:20130115T031749Z
UID:4892-1360400400-1360425600@www.quiltworx.com
SUMMARY:Appletree Fabrics in Auburn\, MA ~ Bali Bedrunner or Bali Wedding Star (session 1 of 2)
DESCRIPTION:Join Ginny Radloff and Appletree Fabrics for an intermediate/advanced Judy Niemeyer Class. \nClass will be two 1-day sessions. February 9\, 2013 9:00 am – 4:00 pm and February 23\, 2013 9:00 am – 4:00 pm \nPlease call Appletree Fabrics (508) 832-5562 to sign-up and get Pre-cutting class instructions. \n
URL:https://www.quiltworx.com/event/appletree-fabrics-in-auburn-ma-bali-bedrunner-or-bali-wedding-star-session-1-of-2/
LOCATION:Appletree Fabrics\, 850 Southbridge Street\, Auburn\, MA\, 01501\, United States
CATEGORIES:Bali Bed Runner 2014,Bali Wedding Star - DISCONTINUED,Ginny Radloff,Instructor
END:VEVENT
END:VCALENDAR