BEGIN:VCALENDAR
VERSION:2.0
PRODID:-//Quiltworx.com - ECPv4.9.6//NONSGML v1.0//EN
CALSCALE:GREGORIAN
METHOD:PUBLISH
X-WR-CALNAME:Quiltworx.com
X-ORIGINAL-URL:https://www.quiltworx.com
X-WR-CALDESC:Events for Quiltworx.com
BEGIN:VTIMEZONE
TZID:"America/Denver"
BEGIN:DAYLIGHT
TZOFFSETFROM:-0700
TZOFFSETTO:-0600
TZNAME:MDT
DTSTART:20200308T090000
END:DAYLIGHT
BEGIN:STANDARD
TZOFFSETFROM:-0600
TZOFFSETTO:-0700
TZNAME:MST
DTSTART:20201101T080000
END:STANDARD
END:VTIMEZONE
BEGIN:VEVENT
DTSTART;TZID="America/Denver":20200118T100000
DTEND;TZID="America/Denver":20200118T160000
DTSTAMP:20260423T191155
CREATED:20190802T113503Z
LAST-MODIFIED:20190802T113816Z
UID:94400-1579341600-1579363200@www.quiltworx.com
SUMMARY:Any TOM Class-Arizona Quilts 6/7
DESCRIPTION:
URL:https://www.quiltworx.com/event/any-tom-class-arizona-quilts-67/
LOCATION:Arizona Quilts\, 12301 W Bell Road A109\, Surprise\, AZ\, 85378\, United States
CATEGORIES:Dinner Plate Dahlia,Glacier Star,Kelly Grant,Mariners Compass,Paradise in Blooms,Vintage Rose
ORGANIZER;CN="Kelly%20Grant":MAILTO:kelly@learn2paperpiece.com
END:VEVENT
END:VCALENDAR