BEGIN:VCALENDAR
VERSION:2.0
PRODID:-//Quiltworx.com - ECPv4.9.6//NONSGML v1.0//EN
CALSCALE:GREGORIAN
METHOD:PUBLISH
X-WR-CALNAME:Quiltworx.com
X-ORIGINAL-URL:https://www.quiltworx.com
X-WR-CALDESC:Events for Quiltworx.com
BEGIN:VTIMEZONE
TZID:"America/Denver"
BEGIN:DAYLIGHT
TZOFFSETFROM:-0700
TZOFFSETTO:-0600
TZNAME:MDT
DTSTART:20220313T090000
END:DAYLIGHT
BEGIN:STANDARD
TZOFFSETFROM:-0600
TZOFFSETTO:-0700
TZNAME:MST
DTSTART:20221106T080000
END:STANDARD
END:VTIMEZONE
BEGIN:VEVENT
DTSTART;TZID="America/Denver":20220725T103000
DTEND;TZID="America/Denver":20220725T150000
DTSTAMP:20260423T021513
CREATED:20220411T124100Z
LAST-MODIFIED:20220628T120354Z
UID:103455-1658745000-1658761200@www.quiltworx.com
SUMMARY:Antique Lighthouse Workshop with CI Nancy Kloster
DESCRIPTION:Join Quiltworx Certified Instructor Nancy Kloster to learn the Foundation Paper Piecing Techniques of Judy Niemeyer. This wall hanging is a great beginners small project and will finish at 40 X 40. \nYou are welcome to work on any Quiltworx project you have in progress. Please call the shop with which pattern you will be working on. \nFeatured Quiltworx Pattern … Antique Lighthouse:  \nJuly 25\,2022 10:30am – 3:00pm \nhttps://www.decorativestitch.com/classes.htm \n
URL:https://www.quiltworx.com/event/antique-lighthouse-workshops-2-of-2-with-ci-nancy-kloster/
LOCATION:Decorative Stitch\, 48814 Van Dyke\, Shelby Township\, MI\, 48317\, United States
CATEGORIES:Antique Lighthouse,Nancy Kloster
ATTACH;FMTTYPE=image/png:https://d90udyyio1r4.cloudfront.net/wp-content/uploads/2020/08/NL-Antique-Lighthouse.png
END:VEVENT
END:VCALENDAR