BEGIN:VCALENDAR
VERSION:2.0
PRODID:-//Quiltworx.com - ECPv4.9.6//NONSGML v1.0//EN
CALSCALE:GREGORIAN
METHOD:PUBLISH
X-WR-CALNAME:Quiltworx.com
X-ORIGINAL-URL:https://www.quiltworx.com
X-WR-CALDESC:Events for Quiltworx.com
BEGIN:VTIMEZONE
TZID:"America/Denver"
BEGIN:DAYLIGHT
TZOFFSETFROM:-0700
TZOFFSETTO:-0600
TZNAME:MDT
DTSTART:20220313T090000
END:DAYLIGHT
BEGIN:STANDARD
TZOFFSETFROM:-0600
TZOFFSETTO:-0700
TZNAME:MST
DTSTART:20221106T080000
END:STANDARD
END:VTIMEZONE
BEGIN:VEVENT
DTSTART;TZID="America/Denver":20220829T103000
DTEND;TZID="America/Denver":20220829T150000
DTSTAMP:20260422T223707
CREATED:20220411T124231Z
LAST-MODIFIED:20220726T010036Z
UID:103453-1661769000-1661785200@www.quiltworx.com
SUMMARY:Antique Lighthouse Workshops 2 of 2 with CI Nancy Kloster
DESCRIPTION:Join Quiltworx Certified Instructor Nancy Kloster to learn the Foundation Paper Piecing Techniques of Judy Niemeyer. This wall hanging is a great beginners small project and will finish at 40 X 40. \nTwo Antique Lighthouse Workshops:  \nJuly 25\, 2022 10:30am – 3:00pm Antique Lighthouse 1 of 2 \nAugust 29\, 2022 10:30am – 3:00pm Antique Lighthouse 2 of 2 \nhttps://www.decorativestitch.com/classes.htm \n
URL:https://www.quiltworx.com/event/antique-lighthouse-workshops-1-of-2-with-ci-nancy-kloster/
LOCATION:Decorative Stitch\, 48814 Van Dyke\, Shelby Township\, MI\, 48317\, United States
CATEGORIES:Antique Lighthouse,Nancy Kloster
ATTACH;FMTTYPE=image/jpeg:https://d90udyyio1r4.cloudfront.net/wp-content/uploads/2020/07/Antique-Lighthouse-Mini-Collections-CS.jpg
END:VEVENT
END:VCALENDAR