BEGIN:VCALENDAR
VERSION:2.0
PRODID:-//Quiltworx.com - ECPv4.9.6//NONSGML v1.0//EN
CALSCALE:GREGORIAN
METHOD:PUBLISH
X-WR-CALNAME:Quiltworx.com
X-ORIGINAL-URL:https://www.quiltworx.com
X-WR-CALDESC:Events for Quiltworx.com
BEGIN:VTIMEZONE
TZID:"America/Denver"
BEGIN:DAYLIGHT
TZOFFSETFROM:-0700
TZOFFSETTO:-0600
TZNAME:MDT
DTSTART:20170312T090000
END:DAYLIGHT
BEGIN:STANDARD
TZOFFSETFROM:-0600
TZOFFSETTO:-0700
TZNAME:MST
DTSTART:20171105T080000
END:STANDARD
END:VTIMEZONE
BEGIN:VEVENT
DTSTART;TZID="America/Denver":20170420T150000
DTEND;TZID="America/Denver":20170423T110000
DTSTAMP:20260423T215559
CREATED:20160925T084511Z
LAST-MODIFIED:20160925T084511Z
UID:79694-1492700400-1492945200@www.quiltworx.com
SUMMARY:2nd annual Retreat to work on any Judy Niemeyer pattern
DESCRIPTION:We will be staying at an incredible quilting retreat center\, Ponderosa Quilt Retreat\, located in Waynesville\, NC. Huge sewing room with cutting stations\, irons and your own table. All meals will be provided. Sew and sleep on your own schedule. Janet McNamara Houck\, Certified Instructor for Judy Niemeyer designs\, will be providing all the teaching. She is experienced in assisting all levels of paper piecing expertise. Technique of the Month patterns can be purchased from Janet and worked on at this retreat.\nCome join in the fun and pampering for a long weekend. \n
URL:https://www.quiltworx.com/event/2nd-annual-retreat-to-work-on-any-judy-niemeyer-pattern/
LOCATION:Ponderosa Quilt Retreat\, 184 Park Dr.\, Waynesville\, NC\, 28786\, United States
CATEGORIES:Glacier Star,Janet McNamara Houck,Mariners Compass,Paradise in Blooms
END:VEVENT
END:VCALENDAR