BEGIN:VCALENDAR
VERSION:2.0
PRODID:-//Quiltworx.com - ECPv4.9.6//NONSGML v1.0//EN
CALSCALE:GREGORIAN
METHOD:PUBLISH
X-WR-CALNAME:Quiltworx.com
X-ORIGINAL-URL:https://www.quiltworx.com
X-WR-CALDESC:Events for Quiltworx.com
BEGIN:VTIMEZONE
TZID:"America/Denver"
BEGIN:DAYLIGHT
TZOFFSETFROM:-0700
TZOFFSETTO:-0600
TZNAME:MDT
DTSTART:20230312T090000
END:DAYLIGHT
BEGIN:STANDARD
TZOFFSETFROM:-0600
TZOFFSETTO:-0700
TZNAME:MST
DTSTART:20231105T080000
END:STANDARD
END:VTIMEZONE
BEGIN:VEVENT
DTSTART;TZID="America/Denver":20230826T103000
DTEND;TZID="America/Denver":20230826T150000
DTSTAMP:20260424T134601
CREATED:20221010T004619Z
LAST-MODIFIED:20230102T015949Z
UID:104748-1693045800-1693062000@www.quiltworx.com
SUMMARY:2023 Carnival Flower TOTM 6 of 6 with CI Nancy Kloster
DESCRIPTION:Join me at Decorative Stitch in Shelby Township\, MI for the NEW and BEAUTIFUL Quiltworx Technique of the Month CARNIVAL FLOWER \nAll Workshops are 10:30am – 3:00pm \nSaturday\, Feb 25\, 2023 \nSaturday\, March 25\, 2023 \nSaturday\, April 22\, 2023 \nSaturday\, June 24\, 2023 \nSaturday\, July 22\, 2023 \nSaturday\, August 26\, 2023 \n  \nhttps://www.decorativestitch.com/ \n
URL:https://www.quiltworx.com/event/2023-carnival-flower-totm-6-of-6-with-ci-nancy-kloster/
LOCATION:Decorative Stitch\, 48814 Van Dyke\, Shelby Township\, MI\, 48317\, United States
CATEGORIES:Carnival Flower,Nancy Kloster
ATTACH;FMTTYPE=image/jpeg:https://d90udyyio1r4.cloudfront.net/wp-content/uploads/2022/12/B5-CF-QW-Moda-Grunge-Tula-Pink-CS_1000.jpg
END:VEVENT
END:VCALENDAR